BEGIN:VCALENDAR
VERSION:2.0
PRODID:-//CGDAM - ECPv6.15.20//NONSGML v1.0//EN
CALSCALE:GREGORIAN
METHOD:PUBLISH
X-ORIGINAL-URL:https://cgdam.org
X-WR-CALDESC:Évènements pour CGDAM
REFRESH-INTERVAL;VALUE=DURATION:PT1H
X-Robots-Tag:noindex
X-PUBLISHED-TTL:PT1H
BEGIN:VTIMEZONE
TZID:UTC
BEGIN:STANDARD
TZOFFSETFROM:+0000
TZOFFSETTO:+0000
TZNAME:UTC
DTSTART:20250101T000000
END:STANDARD
END:VTIMEZONE
BEGIN:VEVENT
DTSTART;TZID=UTC:20260424T200000
DTEND;TZID=UTC:20260424T223000
DTSTAMP:20260423T210655
CREATED:20260314T000230Z
LAST-MODIFIED:20260314T002335Z
UID:17297-1777060800-1777069800@cgdam.org
SUMMARY:Projection - Lenaki\, la malédiction du feu
DESCRIPTION:Un film de de Dimitris Indares.  Il s’agit d’un voyage introspectif guidé par le besoin irrépressible d’explorer ses racines dans une communauté montagneuse du Péloponnèse. La découverte fortuite d’un paquet de documents dans la maison familiale à Patras conduit l’auteur à une recherche qui remonte à sept générations. 
URL:https://cgdam.org/event/projection-lenaki-la-malediction-du-feu/
LOCATION:Cinéma Jean-Paul Belmondo\, 16 PL Garibaldi\, 06300\, Nice
CATEGORIES:Cinéma
ATTACH;FMTTYPE=image/png:https://cgdam.org/wp-content/uploads/2026/03/lenaki_the_curse_of_fire.png
ORGANIZER;CN="CGDAM - Communaut%C3%A9 grecque des Alpes Maritimes":MAILTO:communautegrecque06@orange.fr
END:VEVENT
BEGIN:VEVENT
DTSTART;TZID=UTC:20260529T200000
DTEND;TZID=UTC:20260529T223000
DTSTAMP:20260423T210655
CREATED:20260314T002000Z
LAST-MODIFIED:20260314T002000Z
UID:17313-1780084800-1780093800@cgdam.org
SUMMARY:Projection - Tout ce qu'on peut dire sur moi
DESCRIPTION:un film de Evangelia Goula   Un tournage de longue haleine dans le campement des Roms d’Héraklion\, en Crète\, dévoile l’histoire de la plus grande famille et la personnalité de son légendaire patriarche\, qui a réussi\, dès son plus jeune âge\, à s’instruire\, s’intégrer dans la société et finalement tout perdre à cause des stéréotypes de sa propre communauté.
URL:https://cgdam.org/event/projection-tout-ce-quon-peut-dire-sur-moi/
LOCATION:Cinéma Jean-Paul Belmondo\, 16 PL Garibaldi\, 06300\, Nice
CATEGORIES:Cinéma
ATTACH;FMTTYPE=image/jpeg:https://cgdam.org/wp-content/uploads/2026/03/gouda-ce-qui-peuvent-dire.jpg
ORGANIZER;CN="CGDAM - Communaut%C3%A9 grecque des Alpes Maritimes":MAILTO:communautegrecque06@orange.fr
END:VEVENT
END:VCALENDAR