BEGIN:VCALENDAR
VERSION:2.0
PRODID:-//CGDAM - ECPv6.15.20//NONSGML v1.0//EN
CALSCALE:GREGORIAN
METHOD:PUBLISH
X-WR-CALNAME:CGDAM
X-ORIGINAL-URL:https://cgdam.org
X-WR-CALDESC:Évènements pour CGDAM
REFRESH-INTERVAL;VALUE=DURATION:PT1H
X-Robots-Tag:noindex
X-PUBLISHED-TTL:PT1H
BEGIN:VTIMEZONE
TZID:UTC
BEGIN:STANDARD
TZOFFSETFROM:+0000
TZOFFSETTO:+0000
TZNAME:UTC
DTSTART:20250101T000000
END:STANDARD
END:VTIMEZONE
BEGIN:VEVENT
DTSTART;TZID=UTC:20260328T150000
DTEND;TZID=UTC:20260328T183000
DTSTAMP:20260424T002755
CREATED:20260314T013730Z
LAST-MODIFIED:20260314T013730Z
UID:17359-1774710000-1774722600@cgdam.org
SUMMARY:Assemblée Générale Ordinaire -samedi 28 mars 2026  à 15 h 00
DESCRIPTION:
URL:https://cgdam.org/event/assemblee-generale-ordinaire-samedi-28-mars-2026-a-15-h-00/
LOCATION:Maison des associations  Garibaldi\, 12 ter place Garibaldi -\, Nice\, 06000\, France
CATEGORIES:Rencontre - Réunion
ATTACH;FMTTYPE=image/jpeg:https://cgdam.org/wp-content/uploads/2026/03/logo-CGDAMa.jpg
ORGANIZER;CN="CGDAM - Communaut%C3%A9 grecque des Alpes Maritimes":MAILTO:communautegrecque06@orange.fr
END:VEVENT
END:VCALENDAR