BEGIN:VCALENDAR
VERSION:2.0
PRODID:-//CGDAM - ECPv6.15.20//NONSGML v1.0//EN
CALSCALE:GREGORIAN
METHOD:PUBLISH
X-ORIGINAL-URL:https://cgdam.org
X-WR-CALDESC:Évènements pour CGDAM
REFRESH-INTERVAL;VALUE=DURATION:PT1H
X-Robots-Tag:noindex
X-PUBLISHED-TTL:PT1H
BEGIN:VTIMEZONE
TZID:UTC
BEGIN:STANDARD
TZOFFSETFROM:+0000
TZOFFSETTO:+0000
TZNAME:UTC
DTSTART:20250101T000000
END:STANDARD
END:VTIMEZONE
BEGIN:VEVENT
DTSTART;TZID=UTC:20260307T150000
DTEND;TZID=UTC:20260307T183000
DTSTAMP:20260425T165851
CREATED:20260214T012650Z
LAST-MODIFIED:20260314T013237Z
UID:17355-1772895600-1772908200@cgdam.org
SUMMARY:Conférence: Empire romain d'orient ou empire byzantin ? de Dionysios Hatzopoulos\,
DESCRIPTION:Au cours de la conférence l’historien Dionysios Hatzopoulos abordera l’empire Romain d’Orient qui couvre dix siècles\, jusqu’en 1453. Il transmet la nouvelle religion aux peuples de l’Est européen\, protège ce qui reste de la culture classique et de la tradition romaine et même après sa disparition\, le 29 mai 1453\, son héritage se poursuit dans le monde de l’Europe de l’Est\, « le Commonwealth » byzantin.
URL:https://cgdam.org/event/conference-empire-romain-dorient-ou-empire-byzantin-de-dionysios-hatzopoulos/
LOCATION:Maison des associations  Garibaldi\, 12 ter place Garibaldi -\, Nice\, 06000\, France
CATEGORIES:Conférence
ATTACH;FMTTYPE=image/jpeg:https://cgdam.org/wp-content/uploads/2026/03/confe-Hatzo-affiche-e1773451929451.jpg
ORGANIZER;CN="CGDAM - Communaut%C3%A9 grecque des Alpes Maritimes":MAILTO:communautegrecque06@orange.fr
END:VEVENT
END:VCALENDAR