BEGIN:VCALENDAR
VERSION:2.0
PRODID:-//CGDAM - ECPv6.15.20//NONSGML v1.0//EN
CALSCALE:GREGORIAN
METHOD:PUBLISH
X-ORIGINAL-URL:https://cgdam.org
X-WR-CALDESC:Évènements pour CGDAM
REFRESH-INTERVAL;VALUE=DURATION:PT1H
X-Robots-Tag:noindex
X-PUBLISHED-TTL:PT1H
BEGIN:VTIMEZONE
TZID:UTC
BEGIN:STANDARD
TZOFFSETFROM:+0000
TZOFFSETTO:+0000
TZNAME:UTC
DTSTART:20250101T000000
END:STANDARD
END:VTIMEZONE
BEGIN:VEVENT
DTSTART;TZID=UTC:20260327T180000
DTEND;TZID=UTC:20260327T200000
DTSTAMP:20260425T102943
CREATED:20260314T011912Z
LAST-MODIFIED:20260314T012643Z
UID:17349-1774634400-1774641600@cgdam.org
SUMMARY:LE FESTIVAL DE DRAMA VOYAGE A NICE
DESCRIPTION:Depuis cinq ans la Communauté Grecque des Alpes-Maritimes et le Festival de court métrage de Drama ont inauguré une collaboration annuelle à long terme avec des projections de courts-métrages présentées au Festival de Drama. En mars 2026\, la manifestation tenue au cinéma Jean-Paul Belmondo permettra de découvrir les films primés et distingués du festival annuel du court métrage et qui font partie d’un long voyage au contact du public cinéphile. Cette manifestation fait partie de l’Edition  2026 de  La Fête du court métrage qui s’organise du 25 au 31 mars 2026 partout en France !
URL:https://cgdam.org/event/le-festival-de-drama-voyage-a-nice-2/
LOCATION:Cinéma Jean-Paul Belmondo\, 16 PL Garibaldi\, 06300\, Nice
CATEGORIES:Cinéma
ATTACH;FMTTYPE=image/jpeg:https://cgdam.org/wp-content/uploads/2026/03/Festival-DRAMA-2026_afbo-e1773451060265.jpg
ORGANIZER;CN="CGDAM - Communaut%C3%A9 grecque des Alpes Maritimes":MAILTO:communautegrecque06@orange.fr
END:VEVENT
END:VCALENDAR