BEGIN:VCALENDAR
VERSION:2.0
PRODID:-//CGDAM - ECPv6.15.20//NONSGML v1.0//EN
CALSCALE:GREGORIAN
METHOD:PUBLISH
X-WR-CALNAME:CGDAM
X-ORIGINAL-URL:https://cgdam.org/?lang=el
X-WR-CALDESC:Events for CGDAM
REFRESH-INTERVAL;VALUE=DURATION:PT1H
X-Robots-Tag:noindex
X-PUBLISHED-TTL:PT1H
BEGIN:VTIMEZONE
TZID:UTC
BEGIN:STANDARD
TZOFFSETFROM:+0000
TZOFFSETTO:+0000
TZNAME:UTC
DTSTART:20240101T000000
END:STANDARD
END:VTIMEZONE
BEGIN:VEVENT
DTSTART;TZID=UTC:20251128T200000
DTEND;TZID=UTC:20251128T230000
DTSTAMP:20260424T062655
CREATED:20250826T133522Z
LAST-MODIFIED:20250826T133522Z
UID:15868-1764360000-1764370800@cgdam.org
SUMMARY:Προβολή της ταινίας : Έβρος - Θολό Τοπίο
DESCRIPTION:Μια ταινία του Γεώργιος Κεραμιδιώτη \nΟ Έβρος είναι το όνομα ενός νομού στη βορειοανατολική Ελλάδα\, στα σύνορα με την Τουρκία. Είναι μία από τις πύλες εισόδου στην Ευρωπαϊκή Ένωση που επιζητούν εκατομμύρια πρόσφυγες. Τα σύνορα ακολουθούν την πορεία του ποταμού Έβρου – Μαρίτσα – σε μήκος περίπου 150 χλμ. και αποκλίνουν προς τα βόρεια σε μήκος περίπου 40 χλμ. από την χερσαία διαδρομή.
URL:https://cgdam.org/event/provoli-tis-tainias-evros-tholo-topio/?lang=el
LOCATION:Κινηματογράφος  16 Pl. Garibaldi\, Nice\, 06300
CATEGORIES:Κινηματογράφος
ATTACH;FMTTYPE=image/jpeg:https://cgdam.org/wp-content/uploads/2025/08/εωροσ.jpg
ORGANIZER;CN="%CE%95%CE%BB%CE%BB%CE%B7%CE%BD%CE%B9%CE%BA%CE%AE %CE%BA%CE%BF%CE%B9%CE%BD%CF%8C%CF%84%CE%B7%CF%84%CE%B1 %CF%84%CF%89%CE%BD %CF%80%CE%B1%CF%81%CE%B1%CE%BB%CE%AF%CF%89%CE%BD %CE%86%CE%BB%CF%80%CE%B5%CF%89%CE%BD":MAILTO:communautegrecque06@orange.fr
END:VEVENT
END:VCALENDAR