BEGIN:VCALENDAR
VERSION:2.0
PRODID:-//CGDAM - ECPv6.15.20//NONSGML v1.0//EN
CALSCALE:GREGORIAN
METHOD:PUBLISH
X-WR-CALNAME:CGDAM
X-ORIGINAL-URL:https://cgdam.org/?lang=el
X-WR-CALDESC:Events for CGDAM
REFRESH-INTERVAL;VALUE=DURATION:PT1H
X-Robots-Tag:noindex
X-PUBLISHED-TTL:PT1H
BEGIN:VTIMEZONE
TZID:UTC
BEGIN:STANDARD
TZOFFSETFROM:+0000
TZOFFSETTO:+0000
TZNAME:UTC
DTSTART:20240101T000000
END:STANDARD
END:VTIMEZONE
BEGIN:VEVENT
DTSTART;TZID=UTC:20251219T200000
DTEND;TZID=UTC:20251219T230000
DTSTAMP:20260424T082416
CREATED:20250826T132159Z
LAST-MODIFIED:20250826T132159Z
UID:15852-1766174400-1766185200@cgdam.org
SUMMARY:Προβολή της ταινίας  που  βραβεύτηκε στο festival GrecDoc 2025
DESCRIPTION:CINEMA Jean-Paul Belmondo
URL:https://cgdam.org/event/provoli-tis-tainias-pou-vraveftike-sto-festival-grecdoc-2025/?lang=el
LOCATION:Κινηματογράφος  16 Pl. Garibaldi\, Nice\, 06300
CATEGORIES:Κινηματογράφος
ATTACH;FMTTYPE=image/jpeg:https://cgdam.org/wp-content/uploads/2025/08/tenia-festival.jpg
ORGANIZER;CN="%CE%95%CE%BB%CE%BB%CE%B7%CE%BD%CE%B9%CE%BA%CE%AE %CE%BA%CE%BF%CE%B9%CE%BD%CF%8C%CF%84%CE%B7%CF%84%CE%B1 %CF%84%CF%89%CE%BD %CF%80%CE%B1%CF%81%CE%B1%CE%BB%CE%AF%CF%89%CE%BD %CE%86%CE%BB%CF%80%CE%B5%CF%89%CE%BD":MAILTO:communautegrecque06@orange.fr
END:VEVENT
BEGIN:VEVENT
DTSTART;TZID=UTC:20260424T200000
DTEND;TZID=UTC:20260424T223000
DTSTAMP:20260424T082416
CREATED:20260314T002948Z
LAST-MODIFIED:20260314T002948Z
UID:17320-1777060800-1777069800@cgdam.org
SUMMARY:Προβολή -  «Ότι λες για μένα»
DESCRIPTION:Μία ταινία της  Ευαγγελία ςΓούλα < Πρόκειται για μια πρωτότυπη μακροχρόνια έρευνα (2017-2023)\, σε πανελλήνια κλίμακα\, στο πλαίσιο του κινηματογράφου παρατήρησης\, που παρακολουθεί τη ζωή της μεγαλύτερης οικογένειας Ρομά που ζει στη Νέα Αλικαρνασσό και εξερευνά την ιστορία\, τις παραδόσεις και τους καθημερινούς αγώνες της.
URL:https://cgdam.org/event/provoli-oti-les-gia-mena/?lang=el
LOCATION:Κινηματογράφος  16 Pl. Garibaldi\, Nice\, 06300
CATEGORIES:Κινηματογράφος
ATTACH;FMTTYPE=image/jpeg:https://cgdam.org/wp-content/uploads/2026/03/gouda-ce-qui-peuvent-dire.jpg
ORGANIZER;CN="%CE%95%CE%BB%CE%BB%CE%B7%CE%BD%CE%B9%CE%BA%CE%AE %CE%BA%CE%BF%CE%B9%CE%BD%CF%8C%CF%84%CE%B7%CF%84%CE%B1 %CF%84%CF%89%CE%BD %CF%80%CE%B1%CF%81%CE%B1%CE%BB%CE%AF%CF%89%CE%BD %CE%86%CE%BB%CF%80%CE%B5%CF%89%CE%BD":MAILTO:communautegrecque06@orange.fr
END:VEVENT
END:VCALENDAR